BEGIN:VCALENDAR
VERSION:2.0
PRODID:-//ChamberMaster//Event Calendar 2.0//EN
METHOD:PUBLISH
X-PUBLISHED-TTL:P3D
REFRESH-INTERVAL:P3D
CALSCALE:GREGORIAN
BEGIN:VEVENT
DTSTART:20221203T140000Z
DTEND:20221203T173000Z
X-MICROSOFT-CDO-ALLDAYEVENT:FALSE
SUMMARY:Hearts United Community Day
DESCRIPTION:Everyone deserves to feel loved\, especially at Christmas. You can make a difference this holiday season and show how much you care by providing real help to people in need. DONATE and VOLUNTEER to pack meal kits for desperate families in the Caribbean and Latin America. Groups are encouraged to host a COLLECTION DRIVE.
X-ALT-DESC;FMTTYPE=text/html:Everyone deserves to feel loved\, especially at Christmas. You can make a difference this holiday season and show how much you care by providing real help to people in need. DONATE and VOLUNTEER to pack meal kits for desperate families in the Caribbean and Latin America. Groups are encouraged to host a COLLECTION DRIVE.
LOCATION:FOOD FOR THE POOR 6401 Lyons Road Coconut Creek\, FL
UID:e.52.17371
SEQUENCE:3
DTSTAMP:20260419T115849Z
URL:https://members.csccrchamber.com/events/details/hearts-united-community-day-17371
END:VEVENT

END:VCALENDAR
