BEGIN:VCALENDAR
VERSION:2.0
PRODID:-//ChamberMaster//Event Calendar 2.0//EN
METHOD:PUBLISH
X-PUBLISHED-TTL:P3D
REFRESH-INTERVAL:P3D
CALSCALE:GREGORIAN
BEGIN:VEVENT
DTSTART;VALUE=DATE:20240930
DTEND;VALUE=DATE:20241001
TRANSP:TRANSPARENT
X-MICROSOFT-CDO-ALLDAYEVENT:TRUE
SUMMARY:Deadline to Apply for Jim Moran Institute Executive Programs
DESCRIPTION:The Jim Moran Institute for Global Entrepreneurship\, part of the Florida State University Jim Moran College of Entrepreneurship\, is accepting applications for its Spring 2025 Small Business Executive Program (SBEP) and Nonprofit Executive Program (NPEP) held in South Florida. Offered at no cost to participants\, the programs are funded by The Jim Moran Foundation and Jan Moran and her late husband\, automotive pioneer Jim Moran. The deadline is Monday\, September 30 and applications can be submitted online at jimmoraninstitute.fsu.edu/programs.
X-ALT-DESC;FMTTYPE=text/html:The Jim Moran Institute for Global Entrepreneurship\, part of the Florida State University Jim Moran College of Entrepreneurship\, is accepting applications for its Spring 2025 Small Business Executive Program (SBEP) and Nonprofit Executive Program (NPEP) held in South Florida. Offered at no cost to participants\, the programs are funded by The Jim Moran Foundation and Jan Moran and her late husband\, automotive pioneer Jim Moran. The deadline is Monday\, September 30 and applications can be submitted online at jimmoraninstitute.fsu.edu/programs.
LOCATION:
UID:e.52.18650
SEQUENCE:3
DTSTAMP:20260421T000021Z
URL:https://members.csccrchamber.com/events/details/deadline-to-apply-for-jim-moran-institute-executive-programs-09-30-2024-18650
END:VEVENT

END:VCALENDAR
