BEGIN:VCALENDAR
VERSION:2.0
PRODID:-//ChamberMaster//Event Calendar 2.0//EN
METHOD:PUBLISH
X-PUBLISHED-TTL:P3D
REFRESH-INTERVAL:P3D
CALSCALE:GREGORIAN
BEGIN:VEVENT
DTSTART:20240221T233000Z
DTEND:20240222T020000Z
X-MICROSOFT-CDO-ALLDAYEVENT:FALSE
SUMMARY:Coral Springs Commission Meeting
DESCRIPTION:The City Commission meets twice a month to discuss and vote on official city business. The City Commission is made up of the Mayor and four commissioners all elected by residents.\n\nThose who would like to provide public comment\, must submit a request in writing no later than the day of the meeting. You can provide public comment by completing this form. \n\nResidents are invited to attend in-person or watch online. Meetings are aired on CityTV\, Blue Stream Channels 25\, 25.2\, 725 and on AT&T U-Verse channel 99. Meetings are also live-streamed.
X-ALT-DESC;FMTTYPE=text/html:<p style="box-sizing: border-box\; margin: 0px 0px 20px\; font-family: &quot\;Source Sans Pro&quot\;\, sans-serif\; font-size: 18px\; color: rgb(34\, 35\, 31)\;">The City Commission meets twice a month to discuss and vote on official city business. The City Commission is made up of the Mayor and four commissioners all elected by residents.</p>\n\n<p style="box-sizing: border-box\; margin: 0px 0px 20px\; font-family: &quot\;Source Sans Pro&quot\;\, sans-serif\; font-size: 18px\; color: rgb(34\, 35\, 31)\;">Those who would like to provide public comment\, must submit a request in writing no later than the day of the meeting.&nbsp\;You can provide public comment by completing this&nbsp\;<a href="https://www.coralsprings.gov/Government/City-Clerks-Office/Public-Comment-Form" style="box-sizing: border-box\; color: rgb(29\, 29\, 32)\; transition: background-color 300ms ease-out 0s\;" target="_self"><span style="color:#008080\;">form</span></a><span style="color:#008080\;">.</span>&nbsp\;</p>\n\n<p style="box-sizing: border-box\; margin: 0px 0px 20px\; font-family: &quot\;Source Sans Pro&quot\;\, sans-serif\; font-size: 18px\; color: rgb(34\, 35\, 31)\;">Residents are invited to attend in-person or watch online. Meetings are aired on CityTV\, Blue Stream Channels 25\, 25.2\, 725 and on AT&amp\;T U-Verse channel 99.&nbsp\;Meetings are also&nbsp\;<a aria-describedby="new-window-0" aria-label="live-streamed - opens in new tab" class="opens-in-new-tab acknowledge" data-uw-rm-ext-link="" href="https://cscitytv.org/CablecastPublicSite/?channel=1" style="box-sizing: border-box\; color: rgb(29\, 29\, 32)\; transition: background-color 300ms ease-out 0s\;" target="_blank" uw-rm-external-link-id="https://cscitytv.org/cablecastpublicsite/?channel=1$live-streamed"><span style="color:#008080\;">live-streamed</span></a>.</p>\n
LOCATION:
UID:e.52.18089
SEQUENCE:3
DTSTAMP:20260424T154618Z
URL:https://members.csccrchamber.com/events/details/coral-springs-commission-meeting-18089
END:VEVENT

END:VCALENDAR
