BEGIN:VCALENDAR
VERSION:2.0
PRODID:-//ChamberMaster//Event Calendar 2.0//EN
METHOD:PUBLISH
X-PUBLISHED-TTL:P3D
REFRESH-INTERVAL:P3D
CALSCALE:GREGORIAN
BEGIN:VEVENT
DTSTART:20221203T150000Z
DTEND:20221203T170000Z
X-MICROSOFT-CDO-ALLDAYEVENT:FALSE
SUMMARY:32nd Annual Santa's Brunch
DESCRIPTION:Join the Women's Club of Coconut Creek for our annual Santa's Brunch for children ages 3-8. Includes lunch\, beverage\, crafts\, goodie bag\, entertainment and a special gift given by Santa and Mrs. Claus. Tickets are available online at tiny.cc/SantaCC and also at Coconut Creek Hometown Market and Fall Festival at Sabal Pines Park on November 19. $15 per child\, $10 per adult. Limit 2 adults per child. Must be a Creek resident to attend. Contact santabrunchcc@gmail.com for more information.
X-ALT-DESC;FMTTYPE=text/html:Join the Women&#39\;s Club of Coconut Creek for our annual Santa&#39\;s Brunch for children ages 3-8. Includes lunch\, beverage\, crafts\, goodie bag\, entertainment and a special gift given by Santa and Mrs. Claus. Tickets are available online at tiny.cc/SantaCC and also at Coconut Creek Hometown Market and Fall Festival at Sabal Pines Park on November 19. $15 per child\, $10 per adult. Limit 2 adults per child. Must be a Creek resident to attend. Contact santabrunchcc@gmail.com for more information.&nbsp\;
LOCATION:North Recreation Complex 4455 Sol Press Blvd. Coconut Creek\, FL 33073
UID:e.52.17368
SEQUENCE:3
DTSTAMP:20260422T083649Z
URL:https://members.csccrchamber.com/events/details/32nd-annual-santa-s-brunch-17368
END:VEVENT

END:VCALENDAR
